BEGIN:VCALENDAR
VERSION:2.0
PRODID:-//jEvents 1.5 for Joomla//EN
CALSCALE:GREGORIAN
METHOD:PUBLISH
BEGIN:VEVENT

UID:e1866f4592b4633d1985a5d167843ab6
CATEGORIES:АБК кв. 4
SUMMARY:АБК кв. 4
LOCATION:
DESCRIPTION;ENCODING=QUOTED-PRINTABLE:<p>Занято</p>

DTSTAMP:20260421T120838Z
DTSTART:20250518
DTEND:20250830
SEQUENCE:0
TRANSP:OPAQUE
END:VEVENT
END:VCALENDAR