BEGIN:VCALENDAR
VERSION:2.0
PRODID:-//jEvents 1.5 for Joomla//EN
CALSCALE:GREGORIAN
METHOD:PUBLISH
BEGIN:VEVENT

UID:4c598846abe6306a07c2767d42d65427
CATEGORIES:А1 кв. 4
SUMMARY:А1 кв. 4
LOCATION:
DESCRIPTION;ENCODING=QUOTED-PRINTABLE:\n\nЗанято\n

DTSTAMP:20260419T201546Z
DTSTART:20241101
DTEND:20250430
SEQUENCE:0
TRANSP:OPAQUE
END:VEVENT
END:VCALENDAR