BEGIN:VCALENDAR
VERSION:2.0
PRODID:-//jEvents 1.5 for Joomla//EN
CALSCALE:GREGORIAN
METHOD:PUBLISH
BEGIN:VEVENT

UID:59085b89710bfa7f67f1c4b90c027232
CATEGORIES:АБК кв. 1
SUMMARY:АБК кв. 1
LOCATION:
DESCRIPTION;ENCODING=QUOTED-PRINTABLE:<p>Занято</p>

DTSTAMP:20260420T065649Z
DTSTART:20240826
DTEND:20240901
SEQUENCE:0
TRANSP:OPAQUE
END:VEVENT
END:VCALENDAR