BEGIN:VCALENDAR
VERSION:2.0
PRODID:-//jEvents 1.5 for Joomla//EN
CALSCALE:GREGORIAN
METHOD:PUBLISH
BEGIN:VEVENT

UID:c6c30e163f2c859890ddb702acc917ea
CATEGORIES:А1 кв. 2
SUMMARY:А1 кв. 2
LOCATION:
DESCRIPTION;ENCODING=QUOTED-PRINTABLE:<p>Занято</p>

DTSTAMP:20260420T081718Z
DTSTART:20240821
DTEND:20240830
SEQUENCE:0
TRANSP:OPAQUE
END:VEVENT
END:VCALENDAR