BEGIN:VCALENDAR
VERSION:2.0
PRODID:-//jEvents 1.5 for Joomla//EN
CALSCALE:GREGORIAN
METHOD:PUBLISH
BEGIN:VEVENT

UID:02d329d427aed02a42e48fe8ce24bdc6
CATEGORIES:К3 кв. 2
SUMMARY:К3 кв. 2
LOCATION:
DESCRIPTION;ENCODING=QUOTED-PRINTABLE:<p>Занято</p>

DTSTAMP:20260420T084649Z
DTSTART:20240726
DTEND:20240820
SEQUENCE:0
TRANSP:OPAQUE
END:VEVENT
END:VCALENDAR