BEGIN:VCALENDAR
VERSION:2.0
PRODID:-//jEvents 1.5 for Joomla//EN
CALSCALE:GREGORIAN
METHOD:PUBLISH
BEGIN:VEVENT

UID:ebab28bd6d67d3f45b73972e325de8e1
CATEGORIES:АБК кв. 4
SUMMARY:АБК кв. 4
LOCATION:
DESCRIPTION;ENCODING=QUOTED-PRINTABLE:<p>Занято</p>

DTSTAMP:20260422T095224Z
DTSTART:20240726
DTEND:20240820
SEQUENCE:0
TRANSP:OPAQUE
END:VEVENT
END:VCALENDAR