BEGIN:VCALENDAR
VERSION:2.0
PRODID:-//jEvents 1.5 for Joomla//EN
CALSCALE:GREGORIAN
METHOD:PUBLISH
BEGIN:VEVENT

UID:87b6942898a6411bab418df061977933
CATEGORIES:АБК кв. 3
SUMMARY:АБК кв. 3
LOCATION:
DESCRIPTION;ENCODING=QUOTED-PRINTABLE:\n\nЗанято\n

DTSTAMP:20260420T081406Z
DTSTART:20240726
DTEND:20240820
SEQUENCE:0
TRANSP:OPAQUE
END:VEVENT
END:VCALENDAR