BEGIN:VCALENDAR
VERSION:2.0
PRODID:-//jEvents 1.5 for Joomla//EN
CALSCALE:GREGORIAN
METHOD:PUBLISH
BEGIN:VEVENT

UID:2ac99d82a325022468fafbe4a6c967c3
CATEGORIES:АБК кв. 1
SUMMARY:АБК кв. 1
LOCATION:
DESCRIPTION;ENCODING=QUOTED-PRINTABLE:<p>Занято</p>

DTSTAMP:20260420T084649Z
DTSTART:20240726
DTEND:20240820
SEQUENCE:0
TRANSP:OPAQUE
END:VEVENT
END:VCALENDAR