BEGIN:VCALENDAR
VERSION:2.0
PRODID:-//jEvents 1.5 for Joomla//EN
CALSCALE:GREGORIAN
METHOD:PUBLISH
BEGIN:VEVENT

UID:4414315f1fcf40c8cca05497d3347ddf
CATEGORIES:А1 кв. 2
SUMMARY:А1 кв. 2
LOCATION:
DESCRIPTION;ENCODING=QUOTED-PRINTABLE:\n\nЗанято\n

DTSTAMP:20260420T081441Z
DTSTART:20240726
DTEND:20240820
SEQUENCE:0
TRANSP:OPAQUE
END:VEVENT
END:VCALENDAR