BEGIN:VCALENDAR
VERSION:2.0
PRODID:-//jEvents 1.5 for Joomla//EN
CALSCALE:GREGORIAN
METHOD:PUBLISH
BEGIN:VEVENT

UID:51170e0377f9f7177aa189e3872e6092
CATEGORIES:АБК кв. 1
SUMMARY:АБК кв. 1
LOCATION:
DESCRIPTION;ENCODING=QUOTED-PRINTABLE:\n\nЗанято\n

DTSTAMP:20260420T084343Z
DTSTART:20240803
DTEND:20240809
SEQUENCE:0
TRANSP:OPAQUE
END:VEVENT
END:VCALENDAR