BEGIN:VCALENDAR
VERSION:2.0
PRODID:-//jEvents 1.5 for Joomla//EN
CALSCALE:GREGORIAN
METHOD:PUBLISH
BEGIN:VEVENT

UID:218e783020e2a80e94e8d817b30eb21f
CATEGORIES:АБК кв. 4
SUMMARY:АБК кв. 4
LOCATION:
DESCRIPTION;ENCODING=QUOTED-PRINTABLE:

DTSTAMP:20260422T114345Z
DTSTART:20240717
DTEND:20240723
SEQUENCE:0
TRANSP:OPAQUE
END:VEVENT
END:VCALENDAR