BEGIN:VCALENDAR
VERSION:2.0
PRODID:-//jEvents 1.5 for Joomla//EN
CALSCALE:GREGORIAN
METHOD:PUBLISH
BEGIN:VEVENT

UID:10bcc74256bebb6b1a114e6c2d2cc873
CATEGORIES:АБК кв. 1
SUMMARY:АБК кв. 1
LOCATION:
DESCRIPTION;ENCODING=QUOTED-PRINTABLE:<p>Занято</p>

DTSTAMP:20260422T122200Z
DTSTART:20240717
DTEND:20240722
SEQUENCE:0
TRANSP:OPAQUE
END:VEVENT
END:VCALENDAR