BEGIN:VCALENDAR
VERSION:2.0
PRODID:-//jEvents 1.5 for Joomla//EN
CALSCALE:GREGORIAN
METHOD:PUBLISH
BEGIN:VEVENT

UID:1f9ec096aa8fe77dfd7ba29132b51104
CATEGORIES:А1 кв. 4
SUMMARY:А1 кв. 4
LOCATION:
DESCRIPTION;ENCODING=QUOTED-PRINTABLE:\n\nЗанято\n

DTSTAMP:20260422T141952Z
DTSTART:20240712
DTEND:20240718
SEQUENCE:0
TRANSP:OPAQUE
END:VEVENT
END:VCALENDAR