BEGIN:VCALENDAR
VERSION:2.0
PRODID:-//jEvents 1.5 for Joomla//EN
CALSCALE:GREGORIAN
METHOD:PUBLISH
BEGIN:VEVENT

UID:efe3430855cfd7ff5694bcc45d13008b
CATEGORIES:АБК кв. 4
SUMMARY:АБК кв. 4
LOCATION:
DESCRIPTION;ENCODING=QUOTED-PRINTABLE:<p>Занято</p>

DTSTAMP:20260422T095149Z
DTSTART:20240803
DTEND:20240809
SEQUENCE:0
TRANSP:OPAQUE
END:VEVENT
END:VCALENDAR