BEGIN:VCALENDAR
VERSION:2.0
PRODID:-//jEvents 1.5 for Joomla//EN
CALSCALE:GREGORIAN
METHOD:PUBLISH
BEGIN:VEVENT

UID:69e258a93cb4047efaad7c88889d78d2
CATEGORIES:АБК кв. 3
SUMMARY:АБК кв. 3
LOCATION:
DESCRIPTION;ENCODING=QUOTED-PRINTABLE:\n\nЗанято\n

DTSTAMP:20260422T121737Z
DTSTART:20240715
DTEND:20240723
SEQUENCE:0
TRANSP:OPAQUE
END:VEVENT
END:VCALENDAR