BEGIN:VCALENDAR
VERSION:2.0
PRODID:-//jEvents 1.5 for Joomla//EN
CALSCALE:GREGORIAN
METHOD:PUBLISH
BEGIN:VEVENT

UID:9521b99b383caa29d3dfcf96c74208c5
CATEGORIES:АБК кв. 3
SUMMARY:АБК кв. 3
LOCATION:
DESCRIPTION;ENCODING=QUOTED-PRINTABLE:<p>Занято</p>

DTSTAMP:20260420T051718Z
DTSTART:20240731T210000Z
DTEND:20240831T205900Z
SEQUENCE:0
TRANSP:OPAQUE
END:VEVENT
END:VCALENDAR