BEGIN:VCALENDAR
VERSION:2.0
PRODID:-//jEvents 1.5 for Joomla//EN
CALSCALE:GREGORIAN
METHOD:PUBLISH
BEGIN:VEVENT

UID:a5cc75c27c40bc89a0de9ce3f83d8c69
CATEGORIES:К3 кв. 2
SUMMARY:К3 кв. 2
LOCATION:
DESCRIPTION;ENCODING=QUOTED-PRINTABLE:<p>Занято</p>

DTSTAMP:20260420T084601Z
DTSTART:20240706
DTEND:20240805
SEQUENCE:0
TRANSP:OPAQUE
END:VEVENT
END:VCALENDAR