BEGIN:VCALENDAR
VERSION:2.0
PRODID:-//jEvents 1.5 for Joomla//EN
CALSCALE:GREGORIAN
METHOD:PUBLISH
BEGIN:VEVENT

UID:b8f7cfa7d5f195da7803482f79725897
CATEGORIES:А1 кв. 4
SUMMARY:А1 кв. 4
LOCATION:
DESCRIPTION;ENCODING=QUOTED-PRINTABLE:\n\nЗанято\n

DTSTAMP:20260422T121736Z
DTSTART:20240728
DTEND:20240811
SEQUENCE:0
TRANSP:OPAQUE
END:VEVENT
END:VCALENDAR