BEGIN:VCALENDAR
VERSION:2.0
PRODID:-//jEvents 1.5 for Joomla//EN
CALSCALE:GREGORIAN
METHOD:PUBLISH
BEGIN:VEVENT

UID:53de74e44799d31b2a5fe786c89bf886
CATEGORIES:А1 кв. 6
SUMMARY:А1 кв. 6
LOCATION:
DESCRIPTION;ENCODING=QUOTED-PRINTABLE:<p>Занято</p>

DTSTAMP:20260422T154447Z
DTSTART:20240718
DTEND:20240731
SEQUENCE:0
TRANSP:OPAQUE
END:VEVENT
END:VCALENDAR