BEGIN:VCALENDAR
VERSION:2.0
PRODID:-//jEvents 1.5 for Joomla//EN
CALSCALE:GREGORIAN
METHOD:PUBLISH
BEGIN:VEVENT

UID:4d2025f1ea7069a4e5e9c5622be5e05d
CATEGORIES:А1 кв. 2
SUMMARY:А1 кв. 2
LOCATION:
DESCRIPTION;ENCODING=QUOTED-PRINTABLE:\n\nЗанято\n

DTSTAMP:20260420T081518Z
DTSTART:20240808
DTEND:20240814
SEQUENCE:0
TRANSP:OPAQUE
END:VEVENT
END:VCALENDAR