BEGIN:VCALENDAR
VERSION:2.0
PRODID:-//jEvents 1.5 for Joomla//EN
CALSCALE:GREGORIAN
METHOD:PUBLISH
BEGIN:VEVENT

UID:4991b1356995e4dfdc544a0112be9aea
CATEGORIES:АБК кв. 1
SUMMARY:АБК кв. 1
LOCATION:
DESCRIPTION;ENCODING=QUOTED-PRINTABLE:<p>Занято</p>

DTSTAMP:20260422T142125Z
DTSTART:20240626
DTEND:20240630
SEQUENCE:0
TRANSP:OPAQUE
END:VEVENT
END:VCALENDAR