BEGIN:VCALENDAR
VERSION:2.0
PRODID:-//jEvents 1.5 for Joomla//EN
CALSCALE:GREGORIAN
METHOD:PUBLISH
BEGIN:VEVENT

UID:c4b5cf4ceefa090f0d130f46dc61ce21
CATEGORIES:А1 кв. 4
SUMMARY:А1 кв. 4
LOCATION:
DESCRIPTION;ENCODING=QUOTED-PRINTABLE:<p>Занято</p>

DTSTAMP:20260422T135625Z
DTSTART:20240720
DTEND:20240727
SEQUENCE:0
TRANSP:OPAQUE
END:VEVENT
END:VCALENDAR