BEGIN:VCALENDAR
VERSION:2.0
PRODID:-//jEvents 1.5 for Joomla//EN
CALSCALE:GREGORIAN
METHOD:PUBLISH
BEGIN:VEVENT

UID:3481efa3efb6f55a15410202a703feca
CATEGORIES:АБК кв. 3
SUMMARY:АБК кв. 3
LOCATION:
DESCRIPTION;ENCODING=QUOTED-PRINTABLE:<p>Занято</p>

DTSTAMP:20260422T112030Z
DTSTART:20240608T210000Z
DTEND:20240615T205900Z
SEQUENCE:0
TRANSP:OPAQUE
END:VEVENT
END:VCALENDAR