BEGIN:VCALENDAR
VERSION:2.0
PRODID:-//jEvents 1.5 for Joomla//EN
CALSCALE:GREGORIAN
METHOD:PUBLISH
BEGIN:VEVENT

UID:3f6bf3f8e8d1f5efc4247b351032366f
CATEGORIES:К3 кв. 4
SUMMARY:Б6 кв. 4
LOCATION:
DESCRIPTION;ENCODING=QUOTED-PRINTABLE:\n\nЗанято\n

DTSTAMP:20260422T121735Z
DTSTART:20240701
DTEND:20240831
SEQUENCE:0
TRANSP:OPAQUE
END:VEVENT
END:VCALENDAR