BEGIN:VCALENDAR
VERSION:2.0
PRODID:-//jEvents 1.5 for Joomla//EN
CALSCALE:GREGORIAN
METHOD:PUBLISH
BEGIN:VEVENT

UID:b3aed5b2eaea7676335eb16356ba6efa
CATEGORIES:АБК кв. 5
SUMMARY:АБК кв. 5
LOCATION:
DESCRIPTION;ENCODING=QUOTED-PRINTABLE:<p>Занято</p>

DTSTAMP:20260419T233306Z
DTSTART:20231231T220000Z
DTEND:20241231T215900Z
SEQUENCE:0
TRANSP:OPAQUE
END:VEVENT
END:VCALENDAR