BEGIN:VCALENDAR
VERSION:2.0
PRODID:-//jEvents 1.5 for Joomla//EN
CALSCALE:GREGORIAN
METHOD:PUBLISH
BEGIN:VEVENT

UID:939afe80470833440555517cf8a9b646
CATEGORIES:А1 кв. 7
SUMMARY:А1 кв. 7
LOCATION:
DESCRIPTION;ENCODING=QUOTED-PRINTABLE:\n\nЗанято\n

DTSTAMP:20260420T022947Z
DTSTART:20240101
DTEND:20241231
SEQUENCE:0
TRANSP:OPAQUE
END:VEVENT
END:VCALENDAR