BEGIN:VCALENDAR
VERSION:2.0
PRODID:-//jEvents 1.5 for Joomla//EN
CALSCALE:GREGORIAN
METHOD:PUBLISH
BEGIN:VEVENT

UID:17dc039901b04efd5408084d74d59878
CATEGORIES:А1 кв. 5
SUMMARY:А1 кв. 5
LOCATION:
DESCRIPTION;ENCODING=QUOTED-PRINTABLE:\n\nЗанято\n

DTSTAMP:20260420T012503Z
DTSTART:20240101
DTEND:20241231
SEQUENCE:0
TRANSP:OPAQUE
END:VEVENT
END:VCALENDAR