BEGIN:VCALENDAR
VERSION:2.0
PRODID:-//jEvents 1.5 for Joomla//EN
CALSCALE:GREGORIAN
METHOD:PUBLISH
BEGIN:VEVENT

UID:6de813f24bede0bdc3eafd11d448b33a
CATEGORIES:А1 кв. 3
SUMMARY:А1 кв. 3
LOCATION:
DESCRIPTION;ENCODING=QUOTED-PRINTABLE:\n\nЗанято\n

DTSTAMP:20260420T012503Z
DTSTART:20240101
DTEND:20241231
SEQUENCE:0
TRANSP:OPAQUE
END:VEVENT
END:VCALENDAR