BEGIN:VCALENDAR
VERSION:2.0
PRODID:-//jEvents 1.5 for Joomla//EN
CALSCALE:GREGORIAN
METHOD:PUBLISH
BEGIN:VEVENT

UID:78b9c542b454ac20a93d4a1b357a8767
CATEGORIES:А1 кв. 1
SUMMARY:А1 кв. 1
LOCATION:
DESCRIPTION;ENCODING=QUOTED-PRINTABLE:\n\nЗанято\n

DTSTAMP:20260420T022948Z
DTSTART:20240101
DTEND:20241231
SEQUENCE:0
TRANSP:OPAQUE
END:VEVENT
END:VCALENDAR