BEGIN:VCALENDAR
VERSION:2.0
PRODID:-//jEvents 1.5 for Joomla//EN
CALSCALE:GREGORIAN
METHOD:PUBLISH
BEGIN:VEVENT

UID:3988132c535839d7137d599b0862a1e9
CATEGORIES:АБК кв. 1
SUMMARY:АБК кв. 1
LOCATION:
DESCRIPTION;ENCODING=QUOTED-PRINTABLE:\n\nЗанято\n

DTSTAMP:20260425T164644Z
DTSTART:20230821
DTEND:20230825
SEQUENCE:0
TRANSP:OPAQUE
END:VEVENT
END:VCALENDAR