BEGIN:VCALENDAR
VERSION:2.0
PRODID:-//jEvents 1.5 for Joomla//EN
CALSCALE:GREGORIAN
METHOD:PUBLISH
BEGIN:VEVENT

UID:04522c69d3f66001e8f7f3be6f15b051
CATEGORIES:АБК кв. 4
SUMMARY:АБК кв. 4
LOCATION:
DESCRIPTION;ENCODING=QUOTED-PRINTABLE:\n\nЗанято\n

DTSTAMP:20260425T164348Z
DTSTART:20230822
DTEND:20230904
SEQUENCE:0
TRANSP:OPAQUE
END:VEVENT
END:VCALENDAR