BEGIN:VCALENDAR
VERSION:2.0
PRODID:-//jEvents 1.5 for Joomla//EN
CALSCALE:GREGORIAN
METHOD:PUBLISH
BEGIN:VEVENT

UID:3448bd54d52378268b019a3dca8df444
CATEGORIES:А1 кв. 4
SUMMARY:А1 кв. 4
LOCATION:
DESCRIPTION;ENCODING=QUOTED-PRINTABLE:\n\nЗанято\n

DTSTAMP:20260425T162835Z
DTSTART:20230818
DTEND:20230824
SEQUENCE:0
TRANSP:OPAQUE
END:VEVENT
END:VCALENDAR