BEGIN:VCALENDAR
VERSION:2.0
PRODID:-//jEvents 1.5 for Joomla//EN
CALSCALE:GREGORIAN
METHOD:PUBLISH
BEGIN:VEVENT

UID:fd9eafa7d676459401523a77388add13
CATEGORIES:К3 кв. 2
SUMMARY:К3 кв. 2
LOCATION:
DESCRIPTION;ENCODING=QUOTED-PRINTABLE:<p>Занято</p>

DTSTAMP:20260425T165537Z
DTSTART:20230815
DTEND:20230820
SEQUENCE:0
TRANSP:OPAQUE
END:VEVENT
END:VCALENDAR