BEGIN:VCALENDAR
VERSION:2.0
PRODID:-//jEvents 1.5 for Joomla//EN
CALSCALE:GREGORIAN
METHOD:PUBLISH
BEGIN:VEVENT

UID:85b32d1f1d2b551e19c4fc9b5481cf54
CATEGORIES:К3 кв. 4
SUMMARY:Б6 кв. 4
LOCATION:
DESCRIPTION;ENCODING=QUOTED-PRINTABLE:\n\nЗанято\n

DTSTAMP:20260425T164914Z
DTSTART:20230801
DTEND:20230813
SEQUENCE:0
TRANSP:OPAQUE
END:VEVENT
END:VCALENDAR