BEGIN:VCALENDAR
VERSION:2.0
PRODID:-//jEvents 1.5 for Joomla//EN
CALSCALE:GREGORIAN
METHOD:PUBLISH
BEGIN:VEVENT

UID:ac88914ee6f467efa2ee30685b5f4a7f
CATEGORIES:АБК кв. 3
SUMMARY:АБК кв. 3
LOCATION:
DESCRIPTION;ENCODING=QUOTED-PRINTABLE:\n\nЗанято\n

DTSTAMP:20260425T143904Z
DTSTART:20230817
DTEND:20230823
SEQUENCE:0
TRANSP:OPAQUE
END:VEVENT
END:VCALENDAR