BEGIN:VCALENDAR
VERSION:2.0
PRODID:-//jEvents 1.5 for Joomla//EN
CALSCALE:GREGORIAN
METHOD:PUBLISH
BEGIN:VEVENT

UID:e509dc958b80069627bc1816bace1758
CATEGORIES:К3 кв. 2
SUMMARY:К3 кв. 2
LOCATION:
DESCRIPTION;ENCODING=QUOTED-PRINTABLE:\n\nЗанято\n

DTSTAMP:20260425T162835Z
DTSTART:20230821
DTEND:20230827
SEQUENCE:0
TRANSP:OPAQUE
END:VEVENT
END:VCALENDAR