BEGIN:VCALENDAR
VERSION:2.0
PRODID:-//jEvents 1.5 for Joomla//EN
CALSCALE:GREGORIAN
METHOD:PUBLISH
BEGIN:VEVENT

UID:98f52cb17051f2aea5bd1fd4997a7d7e
CATEGORIES:К3 кв. 4
SUMMARY:Б6 кв. 4
LOCATION:
DESCRIPTION;ENCODING=QUOTED-PRINTABLE:\n\nЗанято\n

DTSTAMP:20260425T164548Z
DTSTART:20230821
DTEND:20230827
SEQUENCE:0
TRANSP:OPAQUE
END:VEVENT
END:VCALENDAR