BEGIN:VCALENDAR
VERSION:2.0
PRODID:-//jEvents 1.5 for Joomla//EN
CALSCALE:GREGORIAN
METHOD:PUBLISH
BEGIN:VEVENT

UID:cf20843150f63f79306a09f6722f25c2
CATEGORIES:АБК кв. 1
SUMMARY:АБК кв. 1
LOCATION:
DESCRIPTION;ENCODING=QUOTED-PRINTABLE:<p>Занято</p>

DTSTAMP:20260425T165729Z
DTSTART:20230807
DTEND:20230812
SEQUENCE:0
TRANSP:OPAQUE
END:VEVENT
END:VCALENDAR