BEGIN:VCALENDAR
VERSION:2.0
PRODID:-//jEvents 1.5 for Joomla//EN
CALSCALE:GREGORIAN
METHOD:PUBLISH
BEGIN:VEVENT

UID:d56f2e44a0b9e075ee569e0a6d9cb74f
CATEGORIES:К3 кв. 4
SUMMARY:Б6 кв. 4
LOCATION:
DESCRIPTION;ENCODING=QUOTED-PRINTABLE:<p>Занято</p>

DTSTAMP:20260425T165530Z
DTSTART:20230814
DTEND:20230820
SEQUENCE:0
TRANSP:OPAQUE
END:VEVENT
END:VCALENDAR