BEGIN:VCALENDAR
VERSION:2.0
PRODID:-//jEvents 1.5 for Joomla//EN
CALSCALE:GREGORIAN
METHOD:PUBLISH
BEGIN:VEVENT

UID:1fdd2fdf3f6e1c7cf8f6af6f746e50b8
CATEGORIES:АБК кв. 4
SUMMARY:АБК кв. 4
LOCATION:
DESCRIPTION;ENCODING=QUOTED-PRINTABLE:\n\nЗанято\n

DTSTAMP:20260425T182435Z
DTSTART:20230722
DTEND:20230730
SEQUENCE:0
TRANSP:OPAQUE
END:VEVENT
END:VCALENDAR