BEGIN:VCALENDAR
VERSION:2.0
PRODID:-//jEvents 1.5 for Joomla//EN
CALSCALE:GREGORIAN
METHOD:PUBLISH
BEGIN:VEVENT

UID:ad60052493238d42196f02d2424783a8
CATEGORIES:АБК кв. 4
SUMMARY:АБК кв. 4
LOCATION:
DESCRIPTION;ENCODING=QUOTED-PRINTABLE:\n\nЗанято\n

DTSTAMP:20260425T164800Z
DTSTART:20230806
DTEND:20230812
SEQUENCE:0
TRANSP:OPAQUE
END:VEVENT
END:VCALENDAR