BEGIN:VCALENDAR
VERSION:2.0
PRODID:-//jEvents 1.5 for Joomla//EN
CALSCALE:GREGORIAN
METHOD:PUBLISH
BEGIN:VEVENT

UID:8e5a645654c87b78a85dfdd72bf8b133
CATEGORIES:АБК кв. 3
SUMMARY:АБК кв. 3
LOCATION:
DESCRIPTION;ENCODING=QUOTED-PRINTABLE:\n\nЗанято\n

DTSTAMP:20260425T143903Z
DTSTART:20230807
DTEND:20230816
SEQUENCE:0
TRANSP:OPAQUE
END:VEVENT
END:VCALENDAR