BEGIN:VCALENDAR
VERSION:2.0
PRODID:-//jEvents 1.5 for Joomla//EN
CALSCALE:GREGORIAN
METHOD:PUBLISH
BEGIN:VEVENT

UID:8e049e2dde647de57d59bdbfe956e24c
CATEGORIES:АБК кв. 3
SUMMARY:АБК кв. 3
LOCATION:
DESCRIPTION;ENCODING=QUOTED-PRINTABLE:\n\nЗанято\n

DTSTAMP:20260425T143904Z
DTSTART:20230729
DTEND:20230805
SEQUENCE:0
TRANSP:OPAQUE
END:VEVENT
END:VCALENDAR