BEGIN:VCALENDAR
VERSION:2.0
PRODID:-//jEvents 1.5 for Joomla//EN
CALSCALE:GREGORIAN
METHOD:PUBLISH
BEGIN:VEVENT

UID:78c1975e9ef8f4b4699a2d75e6bcee40
CATEGORIES:А1 кв. 7
SUMMARY:А1 кв. 7
LOCATION:
DESCRIPTION;ENCODING=QUOTED-PRINTABLE:<p>Занято</p>

DTSTAMP:20260425T182625Z
DTSTART:20230704
DTEND:20230831
SEQUENCE:0
TRANSP:OPAQUE
END:VEVENT
END:VCALENDAR