BEGIN:VCALENDAR
VERSION:2.0
PRODID:-//jEvents 1.5 for Joomla//EN
CALSCALE:GREGORIAN
METHOD:PUBLISH
BEGIN:VEVENT

UID:ff4a386942293fdd6e672349cc417fa8
CATEGORIES:АБК кв. 1
SUMMARY:АБК кв. 1
LOCATION:
DESCRIPTION;ENCODING=QUOTED-PRINTABLE:<p>Занято</p>

DTSTAMP:20260425T182713Z
DTSTART:20230702
DTEND:20230708
SEQUENCE:0
TRANSP:OPAQUE
END:VEVENT
END:VCALENDAR