BEGIN:VCALENDAR
VERSION:2.0
PRODID:-//jEvents 1.5 for Joomla//EN
CALSCALE:GREGORIAN
METHOD:PUBLISH
BEGIN:VEVENT

UID:3da9865af066fbd5f658ca6a286c7cf2
CATEGORIES:АБК кв. 3
SUMMARY:АБК кв. 3
LOCATION:
DESCRIPTION;ENCODING=QUOTED-PRINTABLE:\n\nЗанято\n

DTSTAMP:20260425T164336Z
DTSTART:20230708
DTEND:20230716
SEQUENCE:0
TRANSP:OPAQUE
END:VEVENT
END:VCALENDAR