BEGIN:VCALENDAR
VERSION:2.0
PRODID:-//jEvents 1.5 for Joomla//EN
CALSCALE:GREGORIAN
METHOD:PUBLISH
BEGIN:VEVENT

UID:748a97847c5abbf1bf6fc83d10c4d7e0
CATEGORIES:А1 кв. 4
SUMMARY:А1 кв. 4
LOCATION:
DESCRIPTION;ENCODING=QUOTED-PRINTABLE:\n\nЗанято\n

DTSTAMP:20260425T182434Z
DTSTART:20230701
DTEND:20230731
SEQUENCE:0
TRANSP:OPAQUE
END:VEVENT
END:VCALENDAR