BEGIN:VCALENDAR
VERSION:2.0
PRODID:-//jEvents 1.5 for Joomla//EN
CALSCALE:GREGORIAN
METHOD:PUBLISH
BEGIN:VEVENT

UID:9174991e04c2ed7f84f0fba04b6d79e5
CATEGORIES:А1 кв. 3
SUMMARY:А1 кв. 3
LOCATION:
DESCRIPTION;ENCODING=QUOTED-PRINTABLE:<p>Занято</p>

DTSTAMP:20260425T165643Z
DTSTART:20230501
DTEND:20230831
SEQUENCE:0
TRANSP:OPAQUE
END:VEVENT
END:VCALENDAR