BEGIN:VCALENDAR
VERSION:2.0
PRODID:-//jEvents 1.5 for Joomla//EN
CALSCALE:GREGORIAN
METHOD:PUBLISH
BEGIN:VEVENT

UID:15a3a5f9f05e241e8e2250fe8d6aa4b5
CATEGORIES:А1 кв. 1
SUMMARY:А1 кв. 1
LOCATION:
DESCRIPTION;ENCODING=QUOTED-PRINTABLE:\n\nЗанято\n

DTSTAMP:20260425T164807Z
DTSTART:20230501
DTEND:20230831
SEQUENCE:0
TRANSP:OPAQUE
END:VEVENT
END:VCALENDAR