BEGIN:VCALENDAR
VERSION:2.0
PRODID:-//jEvents 1.5 for Joomla//EN
CALSCALE:GREGORIAN
METHOD:PUBLISH
BEGIN:VEVENT

UID:51486fb3ef6011f464938b2f05c8b7a0
CATEGORIES:АБК кв. 6
SUMMARY:АБК кв. 6
LOCATION:
DESCRIPTION;ENCODING=QUOTED-PRINTABLE:\n\nЗанято\n

DTSTAMP:20260425T164823Z
DTSTART:20230501
DTEND:20230831
SEQUENCE:0
TRANSP:OPAQUE
END:VEVENT
END:VCALENDAR